Package: SGSeq Version: 1.42.1 Command: /home/biocbuild/R/R/bin/R CMD build --keep-empty-dirs --no-resave-data SGSeq StartedAt: 2025-09-30 05:16:11 -0000 (Tue, 30 Sep 2025) EndedAt: 2025-09-30 05:20:37 -0000 (Tue, 30 Sep 2025) EllapsedTime: 266.1 seconds RetCode: 0 Status: OK PackageFile: SGSeq_1.42.1.tar.gz PackageFileSize: 1.743 MiB