Package: SGSeq Version: 1.42.0 Command: /Library/Frameworks/R.framework/Resources/bin/R CMD INSTALL SGSeq StartedAt: 2025-04-21 15:22:39 -0400 (Mon, 21 Apr 2025) EndedAt: 2025-04-21 15:22:56 -0400 (Mon, 21 Apr 2025) EllapsedTime: 16.9 seconds RetCode: 0 Status: OK