Package: SGSeq Version: 1.42.0 Command: rm -rf SGSeq.buildbin-libdir && mkdir SGSeq.buildbin-libdir && /Users/biocbuild/BBS/utils/build-universal.sh SGSeq_1.42.0.tar.gz /Library/Frameworks/R.framework/Resources/bin/R SGSeq.buildbin-libdir StartedAt: 2025-04-21 22:52:23 -0400 (Mon, 21 Apr 2025) EndedAt: 2025-04-21 22:52:41 -0400 (Mon, 21 Apr 2025) EllapsedTime: 18.4 seconds RetCode: 0 Status: OK PackageFile: SGSeq_1.42.0.tgz PackageFileSize: 1.784 MiB