Package: SGSeq Version: 1.42.1 Command: /Library/Frameworks/R.framework/Resources/bin/R CMD INSTALL SGSeq StartedAt: 2025-10-13 17:26:48 -0400 (Mon, 13 Oct 2025) EndedAt: 2025-10-13 17:27:36 -0400 (Mon, 13 Oct 2025) EllapsedTime: 48.1 seconds RetCode: 0 Status: OK