Package: SGSeq Version: 1.42.1 Command: /Library/Frameworks/R.framework/Resources/bin/R CMD build --keep-empty-dirs --no-resave-data SGSeq StartedAt: 2025-10-14 09:24:03 -0400 (Tue, 14 Oct 2025) EndedAt: 2025-10-14 09:27:29 -0400 (Tue, 14 Oct 2025) EllapsedTime: 206.2 seconds RetCode: 0 Status: OK PackageFile: SGSeq_1.42.1.tar.gz PackageFileSize: 1.748 MiB