Package: SGSeq Version: 1.42.1 Command: rm -rf SGSeq.buildbin-libdir && mkdir SGSeq.buildbin-libdir && /Users/biocbuild/BBS/utils/build-universal.sh SGSeq_1.42.1.tar.gz /Library/Frameworks/R.framework/Resources/bin/R SGSeq.buildbin-libdir StartedAt: 2025-10-15 20:30:52 -0400 (Wed, 15 Oct 2025) EndedAt: 2025-10-15 20:31:45 -0400 (Wed, 15 Oct 2025) EllapsedTime: 52.7 seconds RetCode: 0 Status: OK PackageFile: SGSeq_1.42.1.tgz PackageFileSize: 1.782 MiB