Package: SGCP Version: 1.10.0 Command: /home/biocbuild/bbs-3.22-bioc/R/bin/R CMD INSTALL SGCP StartedAt: 2025-11-11 15:44:04 -0500 (Tue, 11 Nov 2025) EndedAt: 2025-11-11 15:44:57 -0500 (Tue, 11 Nov 2025) EllapsedTime: 53.2 seconds RetCode: 0 Status: OK