Package: SGCP Version: 1.10.0 Command: /Library/Frameworks/R.framework/Resources/bin/R CMD INSTALL SGCP StartedAt: 2025-11-10 15:21:16 -0500 (Mon, 10 Nov 2025) EndedAt: 2025-11-10 15:21:38 -0500 (Mon, 10 Nov 2025) EllapsedTime: 21.3 seconds RetCode: 0 Status: OK