Package: SGCP Version: 1.10.0 Command: /Library/Frameworks/R.framework/Resources/bin/R CMD build --keep-empty-dirs --no-resave-data SGCP StartedAt: 2025-11-10 17:45:00 -0500 (Mon, 10 Nov 2025) EndedAt: 2025-11-10 17:45:30 -0500 (Mon, 10 Nov 2025) EllapsedTime: 29.3 seconds RetCode: 1 Status: ERROR PackageFile: None PackageFileSize: NA