Package: SEtools Version: 1.24.0 Command: /home/biocbuild/bbs-3.22-bioc/R/bin/R CMD INSTALL SEtools StartedAt: 2025-11-11 15:33:01 -0500 (Tue, 11 Nov 2025) EndedAt: 2025-11-11 15:33:35 -0500 (Tue, 11 Nov 2025) EllapsedTime: 34.4 seconds RetCode: 0 Status: OK