Package: SEtools Version: 1.24.0 Command: /home/biocbuild/bbs-3.22-bioc/R/bin/R CMD check --install=check:SEtools.install-out.txt --library=/home/biocbuild/bbs-3.22-bioc/R/site-library --timings SEtools_1.24.0.tar.gz StartedAt: 2025-11-15 04:21:05 -0500 (Sat, 15 Nov 2025) EndedAt: 2025-11-15 04:25:20 -0500 (Sat, 15 Nov 2025) EllapsedTime: 254.3 seconds RetCode: 0 Status: OK CheckDir: SEtools.Rcheck Warnings: 0