Package: SEtools Version: 1.24.0 Command: /home/biocbuild/bbs-3.22-bioc/R/bin/R CMD build --keep-empty-dirs --no-resave-data --md5 SEtools StartedAt: 2025-11-11 20:12:09 -0500 (Tue, 11 Nov 2025) EndedAt: 2025-11-11 20:13:01 -0500 (Tue, 11 Nov 2025) EllapsedTime: 52.1 seconds RetCode: 0 Status: OK PackageFile: SEtools_1.24.0.tar.gz PackageFileSize: 537.5 KiB