Package: SEtools Version: 1.24.0 Command: /Library/Frameworks/R.framework/Resources/bin/R CMD INSTALL SEtools StartedAt: 2025-11-03 15:30:56 -0500 (Mon, 03 Nov 2025) EndedAt: 2025-11-03 15:31:43 -0500 (Mon, 03 Nov 2025) EllapsedTime: 47.0 seconds RetCode: 0 Status: OK