Package: SEtools Version: 1.24.0 Command: /Library/Frameworks/R.framework/Resources/bin/R CMD build --keep-empty-dirs --no-resave-data SEtools StartedAt: 2025-11-03 18:46:57 -0500 (Mon, 03 Nov 2025) EndedAt: 2025-11-03 18:47:56 -0500 (Mon, 03 Nov 2025) EllapsedTime: 59.4 seconds RetCode: 0 Status: OK PackageFile: SEtools_1.24.0.tar.gz PackageFileSize: 538.5 KiB