Package: SEtools Version: 1.22.0 Command: /home/biocbuild/R/R/bin/R CMD INSTALL SEtools StartedAt: 2025-10-09 20:43:42 -0000 (Thu, 09 Oct 2025) EndedAt: 2025-10-09 20:44:31 -0000 (Thu, 09 Oct 2025) EllapsedTime: 49.0 seconds RetCode: 0 Status: OK