Package: SEraster Version: 1.2.0 Command: /home/biocbuild/bbs-3.22-bioc/R/bin/R CMD build --keep-empty-dirs --no-resave-data --md5 SEraster StartedAt: 2025-11-11 20:11:37 -0500 (Tue, 11 Nov 2025) EndedAt: 2025-11-11 20:18:14 -0500 (Tue, 11 Nov 2025) EllapsedTime: 397.4 seconds RetCode: 0 Status: OK PackageFile: SEraster_1.2.0.tar.gz PackageFileSize: 2.721 MiB