Package: SETA Version: 1.0.0 Command: /home/biocbuild/bbs-3.22-bioc/R/bin/R CMD INSTALL SETA StartedAt: 2025-11-11 15:23:34 -0500 (Tue, 11 Nov 2025) EndedAt: 2025-11-11 15:23:57 -0500 (Tue, 11 Nov 2025) EllapsedTime: 23.0 seconds RetCode: 0 Status: OK