Package: SETA Version: 1.0.0 Command: /home/biocbuild/bbs-3.22-bioc/R/bin/R CMD check --install=check:SETA.install-out.txt --library=/home/biocbuild/bbs-3.22-bioc/R/site-library --timings SETA_1.0.0.tar.gz StartedAt: 2025-11-17 04:12:14 -0500 (Mon, 17 Nov 2025) EndedAt: 2025-11-17 04:16:56 -0500 (Mon, 17 Nov 2025) EllapsedTime: 282.3 seconds RetCode: 0 Status: OK CheckDir: SETA.Rcheck Warnings: 0