Package: SETA Version: 1.0.0 Command: rm -rf SETA.buildbin-libdir && mkdir SETA.buildbin-libdir && /Users/biocbuild/BBS/utils/build-universal.sh SETA_1.0.0.tar.gz /Library/Frameworks/R.framework/Resources/bin/R SETA.buildbin-libdir StartedAt: 2025-11-04 02:04:11 -0500 (Tue, 04 Nov 2025) EndedAt: 2025-11-04 02:04:47 -0500 (Tue, 04 Nov 2025) EllapsedTime: 35.7 seconds RetCode: 0 Status: OK PackageFile: SETA_1.0.0.tgz PackageFileSize: 4.969 MiB