Package: SETA Version: 1.0.0 Command: /Library/Frameworks/R.framework/Resources/bin/R CMD INSTALL SETA StartedAt: 2025-11-10 15:12:22 -0500 (Mon, 10 Nov 2025) EndedAt: 2025-11-10 15:12:31 -0500 (Mon, 10 Nov 2025) EllapsedTime: 9.6 seconds RetCode: 0 Status: OK