Package: SETA Version: 1.0.0 Command: /Library/Frameworks/R.framework/Resources/bin/R CMD build --keep-empty-dirs --no-resave-data SETA StartedAt: 2025-11-10 17:44:37 -0500 (Mon, 10 Nov 2025) EndedAt: 2025-11-10 17:45:11 -0500 (Mon, 10 Nov 2025) EllapsedTime: 33.4 seconds RetCode: 0 Status: OK PackageFile: SETA_1.0.0.tar.gz PackageFileSize: 4.932 MiB