Package: SETA Version: 1.0.0 Maintainer: Kyle Kimler MaintainerEmail: kkimler at broadinstitute.org git_url: https://git.bioconductor.org/packages/SETA git_branch: RELEASE_3_22 git_last_commit: 2e28769 git_last_commit_date: 2025-10-29 11:38:15 -0500 (Wed, 29 Oct 2025)