Package: SELEX Version: 1.42.0 Command: /Library/Frameworks/R.framework/Resources/bin/R CMD build --keep-empty-dirs --no-resave-data SELEX StartedAt: 2025-11-03 18:45:23 -0500 (Mon, 03 Nov 2025) EndedAt: 2025-11-03 18:45:53 -0500 (Mon, 03 Nov 2025) EllapsedTime: 29.7 seconds RetCode: 0 Status: OK PackageFile: SELEX_1.42.0.tar.gz PackageFileSize: 4.033 MiB