Package: SDAMS Version: 1.30.0 Command: /home/biocbuild/R/R/bin/R CMD INSTALL SDAMS StartedAt: 2025-11-13 21:39:19 -0000 (Thu, 13 Nov 2025) EndedAt: 2025-11-13 21:39:58 -0000 (Thu, 13 Nov 2025) EllapsedTime: 38.4 seconds RetCode: 0 Status: OK