Package: SDAMS Version: 1.30.0 Command: /home/biocbuild/R/R/bin/R CMD build --keep-empty-dirs --no-resave-data SDAMS StartedAt: 2025-11-14 05:17:37 -0000 (Fri, 14 Nov 2025) EndedAt: 2025-11-14 05:18:46 -0000 (Fri, 14 Nov 2025) EllapsedTime: 69.0 seconds RetCode: 0 Status: OK PackageFile: SDAMS_1.30.0.tar.gz PackageFileSize: 1.269 MiB