Package: SDAMS Version: 1.28.0 Command: /home/biocbuild/bbs-3.21-bioc/R/bin/R CMD INSTALL SDAMS StartedAt: 2025-10-08 15:30:54 -0400 (Wed, 08 Oct 2025) EndedAt: 2025-10-08 15:31:24 -0400 (Wed, 08 Oct 2025) EllapsedTime: 30.5 seconds RetCode: 0 Status: OK