Package: SDAMS Version: 1.28.0 Command: /home/biocbuild/bbs-3.21-bioc/R/bin/R CMD build --keep-empty-dirs --no-resave-data SDAMS StartedAt: 2025-10-08 19:48:48 -0400 (Wed, 08 Oct 2025) EndedAt: 2025-10-08 19:49:39 -0400 (Wed, 08 Oct 2025) EllapsedTime: 51.1 seconds RetCode: 0 Status: OK PackageFile: SDAMS_1.28.0.tar.gz PackageFileSize: 1.282 MiB