Package: SDAMS Version: 1.28.0 Command: /Library/Frameworks/R.framework/Resources/bin/R CMD INSTALL SDAMS StartedAt: 2025-10-09 16:52:35 -0400 (Thu, 09 Oct 2025) EndedAt: 2025-10-09 16:53:12 -0400 (Thu, 09 Oct 2025) EllapsedTime: 37.1 seconds RetCode: 0 Status: OK