Package: SDAMS Version: 1.28.0 Command: rm -rf SDAMS.buildbin-libdir && mkdir SDAMS.buildbin-libdir && /Users/biocbuild/BBS/utils/build-universal.sh SDAMS_1.28.0.tar.gz /Library/Frameworks/R.framework/Resources/bin/R SDAMS.buildbin-libdir StartedAt: 2025-10-11 22:15:23 -0400 (Sat, 11 Oct 2025) EndedAt: 2025-10-11 22:16:04 -0400 (Sat, 11 Oct 2025) EllapsedTime: 40.8 seconds RetCode: 0 Status: OK PackageFile: SDAMS_1.28.0.tgz PackageFileSize: 1.105 MiB