Package: SDAMS Version: 1.28.0 Maintainer: Yuntong Li MaintainerEmail: liyuntong0704 at gmail.com git_url: https://git.bioconductor.org/packages/SDAMS git_branch: RELEASE_3_21 git_last_commit: 55e1c39 git_last_commit_date: 2025-04-15 11:32:52 -0400 (Tue, 15 Apr 2025)