Package: SCnorm Version: 1.32.0 Command: /Library/Frameworks/R.framework/Resources/bin/R CMD INSTALL SCnorm StartedAt: 2025-11-02 15:36:20 -0500 (Sun, 02 Nov 2025) EndedAt: 2025-11-02 15:36:56 -0500 (Sun, 02 Nov 2025) EllapsedTime: 36.6 seconds RetCode: 0 Status: OK