Package: SCnorm Version: 1.32.0 Command: rm -rf SCnorm.buildbin-libdir && mkdir SCnorm.buildbin-libdir && /Users/biocbuild/BBS/utils/build-universal.sh SCnorm_1.32.0.tar.gz /Library/Frameworks/R.framework/Resources/bin/R SCnorm.buildbin-libdir StartedAt: 2025-11-01 01:56:38 -0400 (Sat, 01 Nov 2025) EndedAt: 2025-11-01 01:57:19 -0400 (Sat, 01 Nov 2025) EllapsedTime: 40.4 seconds RetCode: 0 Status: OK PackageFile: SCnorm_1.32.0.tgz PackageFileSize: 3.045 MiB