Package: SCnorm Version: 1.30.1 Command: /home/biocbuild/R/R/bin/R CMD INSTALL SCnorm StartedAt: 2025-10-09 20:48:03 -0000 (Thu, 09 Oct 2025) EndedAt: 2025-10-09 20:48:40 -0000 (Thu, 09 Oct 2025) EllapsedTime: 37.9 seconds RetCode: 0 Status: OK