Package: SCnorm Version: 1.30.1 Command: /home/biocbuild/R/R/bin/R CMD build --keep-empty-dirs --no-resave-data SCnorm StartedAt: 2025-10-10 04:23:45 -0000 (Fri, 10 Oct 2025) EndedAt: 2025-10-10 04:26:34 -0000 (Fri, 10 Oct 2025) EllapsedTime: 169.0 seconds RetCode: 0 Status: OK PackageFile: SCnorm_1.30.1.tar.gz PackageFileSize: 2.969 MiB