Package: SCOPE Version: 1.22.0 Command: /home/biocbuild/bbs-3.22-bioc/R/bin/R CMD INSTALL SCOPE StartedAt: 2025-11-11 15:38:54 -0500 (Tue, 11 Nov 2025) EndedAt: 2025-11-11 15:39:30 -0500 (Tue, 11 Nov 2025) EllapsedTime: 35.7 seconds RetCode: 0 Status: OK