Package: SCOPE Version: 1.22.0 Command: /home/biocbuild/bbs-3.22-bioc/R/bin/R CMD check --install=check:SCOPE.install-out.txt --library=/home/biocbuild/bbs-3.22-bioc/R/site-library --timings SCOPE_1.22.0.tar.gz StartedAt: 2025-11-12 03:54:12 -0500 (Wed, 12 Nov 2025) EndedAt: 2025-11-12 04:07:53 -0500 (Wed, 12 Nov 2025) EllapsedTime: 820.7 seconds RetCode: 0 Status: OK CheckDir: SCOPE.Rcheck Warnings: 0