Package: SCOPE Version: 1.22.0 Command: /home/biocbuild/bbs-3.22-bioc/R/bin/R CMD build --keep-empty-dirs --no-resave-data --md5 SCOPE StartedAt: 2025-11-11 20:04:02 -0500 (Tue, 11 Nov 2025) EndedAt: 2025-11-11 20:12:21 -0500 (Tue, 11 Nov 2025) EllapsedTime: 498.4 seconds RetCode: 0 Status: OK PackageFile: SCOPE_1.22.0.tar.gz PackageFileSize: 394.5 KiB