Package: SCOPE Version: 1.20.0 Command: /home/biocbuild/bbs-3.21-bioc/R/bin/R CMD INSTALL SCOPE StartedAt: 2025-10-15 15:33:43 -0400 (Wed, 15 Oct 2025) EndedAt: 2025-10-15 15:34:18 -0400 (Wed, 15 Oct 2025) EllapsedTime: 34.4 seconds RetCode: 0 Status: OK