Package: SCOPE Version: 1.20.0 Command: /home/biocbuild/bbs-3.21-bioc/R/bin/R CMD build --keep-empty-dirs --no-resave-data SCOPE StartedAt: 2025-10-15 19:45:33 -0400 (Wed, 15 Oct 2025) EndedAt: 2025-10-15 19:53:47 -0400 (Wed, 15 Oct 2025) EllapsedTime: 493.4 seconds RetCode: 0 Status: OK PackageFile: SCOPE_1.20.0.tar.gz PackageFileSize: 391.6 KiB