Package: SCOPE Version: 1.20.0 Command: /Library/Frameworks/R.framework/Resources/bin/R CMD build --keep-empty-dirs --no-resave-data SCOPE StartedAt: 2025-04-21 18:21:35 -0400 (Mon, 21 Apr 2025) EndedAt: 2025-04-21 18:32:02 -0400 (Mon, 21 Apr 2025) EllapsedTime: 627.8 seconds RetCode: 0 Status: OK PackageFile: SCOPE_1.20.0.tar.gz PackageFileSize: 391.5 KiB