Package: SCOPE Version: 1.20.0 Command: rm -rf SCOPE.buildbin-libdir && mkdir SCOPE.buildbin-libdir && /Users/biocbuild/BBS/utils/build-universal.sh SCOPE_1.20.0.tar.gz /Library/Frameworks/R.framework/Resources/bin/R SCOPE.buildbin-libdir StartedAt: 2025-04-22 01:07:51 -0400 (Tue, 22 Apr 2025) EndedAt: 2025-04-22 01:08:43 -0400 (Tue, 22 Apr 2025) EllapsedTime: 52.1 seconds RetCode: 0 Status: OK PackageFile: SCOPE_1.20.0.tgz PackageFileSize: 578.6 KiB