Package: SCOPE Version: 1.20.0 Command: /home/biocbuild/R/R/bin/R CMD INSTALL SCOPE StartedAt: 2025-09-25 20:50:23 -0000 (Thu, 25 Sep 2025) EndedAt: 2025-09-25 20:51:15 -0000 (Thu, 25 Sep 2025) EllapsedTime: 52.0 seconds RetCode: 0 Status: OK