Package: SCOPE Version: 1.20.0 Command: /Library/Frameworks/R.framework/Resources/bin/R CMD INSTALL SCOPE StartedAt: 2025-04-21 15:18:58 -0400 (Mon, 21 Apr 2025) EndedAt: 2025-04-21 15:19:13 -0400 (Mon, 21 Apr 2025) EllapsedTime: 15.4 seconds RetCode: 0 Status: OK