Package: SCOPE Version: 1.20.0 Command: /Library/Frameworks/R.framework/Resources/bin/R CMD build --keep-empty-dirs --no-resave-data SCOPE StartedAt: 2025-04-21 17:35:03 -0400 (Mon, 21 Apr 2025) EndedAt: 2025-04-21 17:38:32 -0400 (Mon, 21 Apr 2025) EllapsedTime: 209.3 seconds RetCode: 0 Status: OK PackageFile: SCOPE_1.20.0.tar.gz PackageFileSize: 391.8 KiB