Package: SCOPE Version: 1.20.0 Command: /Library/Frameworks/R.framework/Resources/bin/R CMD INSTALL SCOPE StartedAt: 2025-10-13 17:02:01 -0400 (Mon, 13 Oct 2025) EndedAt: 2025-10-13 17:02:42 -0400 (Mon, 13 Oct 2025) EllapsedTime: 41.1 seconds RetCode: 0 Status: OK