Package: SCOPE Version: 1.20.0 Command: rm -rf SCOPE.buildbin-libdir && mkdir SCOPE.buildbin-libdir && /Users/biocbuild/BBS/utils/build-universal.sh SCOPE_1.20.0.tar.gz /Library/Frameworks/R.framework/Resources/bin/R SCOPE.buildbin-libdir StartedAt: 2025-10-15 20:24:07 -0400 (Wed, 15 Oct 2025) EndedAt: 2025-10-15 20:24:54 -0400 (Wed, 15 Oct 2025) EllapsedTime: 46.6 seconds RetCode: 0 Status: OK PackageFile: SCOPE_1.20.0.tgz PackageFileSize: 578.5 KiB