Package: SCOPE Version: 1.20.0 Maintainer: Rujin Wang MaintainerEmail: rujin at email.unc.edu git_url: https://git.bioconductor.org/packages/SCOPE git_branch: RELEASE_3_21 git_last_commit: bda8fef git_last_commit_date: 2025-04-15 11:54:42 -0400 (Tue, 15 Apr 2025)