Package: SCFA Version: 1.20.0 Command: /home/biocbuild/bbs-3.22-bioc/R/bin/R CMD INSTALL SCFA StartedAt: 2025-11-11 15:11:43 -0500 (Tue, 11 Nov 2025) EndedAt: 2025-11-11 15:12:00 -0500 (Tue, 11 Nov 2025) EllapsedTime: 16.8 seconds RetCode: 0 Status: OK