Package: SCFA Version: 1.20.0 Command: /home/biocbuild/bbs-3.22-bioc/R/bin/R CMD build --keep-empty-dirs --no-resave-data --md5 SCFA StartedAt: 2025-11-11 20:00:51 -0500 (Tue, 11 Nov 2025) EndedAt: 2025-11-11 20:03:22 -0500 (Tue, 11 Nov 2025) EllapsedTime: 151.1 seconds RetCode: 0 Status: OK PackageFile: SCFA_1.20.0.tar.gz PackageFileSize: 1.241 MiB