Package: SCFA Version: 1.18.0 Command: /home/biocbuild/R/R/bin/R CMD INSTALL SCFA StartedAt: 2025-10-13 20:18:29 -0000 (Mon, 13 Oct 2025) EndedAt: 2025-10-13 20:18:51 -0000 (Mon, 13 Oct 2025) EllapsedTime: 22.5 seconds RetCode: 0 Status: OK